BEGIN:VCALENDAR
VERSION:2.0
CALSCALE:GREGORIAN
PRODID:-//Diputació de Barcelona//DibaCMS//EN
BEGIN:VEVENT
UID:3709
DTSTAMP:20260422T150235
DTSTART:20180726T213000
DTEND:20180726T223000
SUMMARY:Coral Ullastrell - Concert a Viladecavalls
LOCATION:Església Sant Martí de Sorbet, Viladecavalls 
METHOD:PUBLISH
X-WR-CALNAME:ullastrell@ullastrell.cat
X-WR-TIMEZONE:Europe/Madrid
DESCRIPTION:La Coral participa al Cicle musical del 19è Estiu de Cant Coral de Viladecavalls

URI:https://www.ullastrell.cat/actualitat/agenda/coral-ullastrell-concert-a-viladecavalls.html
CLASS:PUBLIC
END:VEVENT
END:VCALENDAR
