BEGIN:VCALENDAR
VERSION:2.0
CALSCALE:GREGORIAN
PRODID:-//Diputació de Barcelona//DibaCMS//EN
BEGIN:VEVENT
UID:3710
DTSTAMP:20260422T134811
DTSTART:20180721T150000
DTEND:20180722T150000
SUMMARY:24h Futbol Sala - Torneig femení
LOCATION:C/ Josep Fornell, s/n 08231 Ullastrell
METHOD:PUBLISH
X-WR-CALNAME:ullastrell@ullastrell.cat
X-WR-TIMEZONE:Europe/Madrid
DESCRIPTION:Torneig de 24 hores de futbol sala femení

 

URI:https://www.ullastrell.cat/actualitat/agenda/24h-futbol-sala-torneig-femeni.html
CLASS:PUBLIC
END:VEVENT
END:VCALENDAR
