BEGIN:VCALENDAR
VERSION:2.0
CALSCALE:GREGORIAN
PRODID:-//Diputació de Barcelona//DibaCMS//EN
BEGIN:VEVENT
UID:3714
DTSTAMP:20260422T110220
DTSTART:20180715T090000
DTEND:20180715T090000
SUMMARY:Excursió de Caramelles a Marineland
LOCATION:
METHOD:PUBLISH
X-WR-CALNAME:ullastrell@ullastrell.cat
X-WR-TIMEZONE:Europe/Madrid
DESCRIPTION:Tots els petits i grans cantaires que van participar a les Caramelles d'enguany aniran d'excursió a Marineland!

URI:https://www.ullastrell.cat/actualitat/agenda/excursio-de-caramelles-a-marineland.html
CLASS:PUBLIC
END:VEVENT
END:VCALENDAR
