BEGIN:VCALENDAR
VERSION:2.0
CALSCALE:GREGORIAN
PRODID:-//Diputació de Barcelona//DibaCMS//EN
BEGIN:VEVENT
UID:3717
DTSTAMP:20260422T134232
DTSTART:20180721T220000
DTEND:20180721T220000
SUMMARY:CINEMA A LA FRESCA: Records de l'escola Serralavella
LOCATION:Plaça de les Escoles  
METHOD:PUBLISH
X-WR-CALNAME:ullastrell@ullastrell.cat
X-WR-TIMEZONE:Europe/Madrid
DESCRIPTION:L'entitat Ullastrell Solidari organitza un cicle de cinema a la fresca, no us ho perdeu!

URI:https://www.ullastrell.cat/actualitat/agenda/cinema-a-la-fresca-records-de-lescola-serralavella.html
CLASS:PUBLIC
END:VEVENT
END:VCALENDAR
