BEGIN:VCALENDAR
VERSION:2.0
CALSCALE:GREGORIAN
PRODID:-//Diputació de Barcelona//DibaCMS//EN
BEGIN:VEVENT
UID:3718
DTSTAMP:20260422T190230
DTSTART:20180728T220000
DTEND:20180728T220000
SUMMARY:CINEMA A LA FRESCA: Estiu 1993
LOCATION:Plaça de les Escoles  
METHOD:PUBLISH
X-WR-CALNAME:ullastrell@ullastrell.cat
X-WR-TIMEZONE:Europe/Madrid
DESCRIPTION:L'entitat Ullastrell Solidari organitza un cicle de cinema a la fresca, no us ho perdeu!

URI:https://www.ullastrell.cat/actualitat/agenda/cinema-a-la-fresca-estiu-1993.html
CLASS:PUBLIC
END:VEVENT
END:VCALENDAR
