BEGIN:VCALENDAR
VERSION:2.0
CALSCALE:GREGORIAN
PRODID:-//Diputació de Barcelona//DibaCMS//EN
BEGIN:VEVENT
UID:3720
DTSTAMP:20260422T145820
DTSTART:20180730T120000
DTEND:20180730T130000
SUMMARY:ITV vehicles agrícoles
LOCATION:
METHOD:PUBLISH
X-WR-CALNAME:ullastrell@ullastrell.cat
X-WR-TIMEZONE:Europe/Madrid
DESCRIPTION:Les persones que vulguin portar el seu vehicle agrícola a passar la inspecció tècnica ha de reservar cita al 93.788.72.62 (Ajuntament).

URI:https://www.ullastrell.cat/actualitat/agenda/itv-vehicles-agricoles.html
CLASS:PUBLIC
END:VEVENT
END:VCALENDAR
