BEGIN:VCALENDAR
VERSION:2.0
CALSCALE:GREGORIAN
PRODID:-//Diputació de Barcelona//DibaCMS//EN
BEGIN:VEVENT
UID:3721
DTSTAMP:20260422T091534
DTSTART:20180719T120000
DTEND:20180719T130000
SUMMARY:Oficina mòbil del Consumidor
LOCATION:
METHOD:PUBLISH
X-WR-CALNAME:ullastrell@ullastrell.cat
X-WR-TIMEZONE:Europe/Madrid
DESCRIPTION:Totes les persones que tinguin dubtes sobre consum poden adreçar-se a l'oficina mòbil que estarà situada al costat de la Pista, en el lloc on aparca el Bibliobus.

URI:https://www.ullastrell.cat/actualitat/agenda/3721-oficina-mobil-del-consumidor.html
CLASS:PUBLIC
END:VEVENT
END:VCALENDAR
