BEGIN:VCALENDAR
VERSION:2.0
CALSCALE:GREGORIAN
PRODID:-//Diputació de Barcelona//DibaCMS//EN
BEGIN:VEVENT
UID:3725
DTSTAMP:20260422T174920
DTSTART:20180718T200000
DTEND:20180718T210000
SUMMARY:Ple Ordinari
LOCATION:C/ Serra, 17 08231 Ullastrell
METHOD:PUBLISH
X-WR-CALNAME:ullastrell@ullastrell.cat
X-WR-TIMEZONE:Europe/Madrid
DESCRIPTION:Celebració del Ple Ordinari trimestral.

Podeu assisitr presencialment o veure'l pel canal You Tube de l'Ajuntament.

URI:https://www.ullastrell.cat/actualitat/agenda/3725-ple-ordinari.html
CLASS:PUBLIC
END:VEVENT
END:VCALENDAR
