BEGIN:VCALENDAR
VERSION:2.0
CALSCALE:GREGORIAN
PRODID:-//Diputació de Barcelona//DibaCMS//EN
BEGIN:VEVENT
UID:3726
DTSTAMP:20260422T110848
DTSTART:20180714T000000
DTEND:20180714T000000
SUMMARY:12h Futbol Sala - Torneig masculí
LOCATION:C/ Josep Fornell, s/n 08231 Ullastrell
METHOD:PUBLISH
X-WR-CALNAME:ullastrell@ullastrell.cat
X-WR-TIMEZONE:Europe/Madrid
DESCRIPTION:Ullastrell Futsal organitza aquest campionat de 12 hores de Futbol Sala amb un premi per l'equip guanyador de 400€.

URI:https://www.ullastrell.cat/actualitat/agenda/12h-futbol-sala-torneig-masculi.html
CLASS:PUBLIC
END:VEVENT
END:VCALENDAR
