BEGIN:VCALENDAR
VERSION:2.0
CALSCALE:GREGORIAN
PRODID:-//Diputació de Barcelona//DibaCMS//EN
BEGIN:VEVENT
UID:3728
DTSTAMP:20260422T203202
DTSTART:20180727T223000
DTEND:20180727T223000
SUMMARY:Inauguració de la Serra!
LOCATION:
METHOD:PUBLISH
X-WR-CALNAME:ullastrell@ullastrell.cat
X-WR-TIMEZONE:Europe/Madrid
DESCRIPTION:Veniu a gaudir de la veu de Sandra Bautista, que inaugurarà el petit escenari de la Serra!

URI:https://www.ullastrell.cat/actualitat/agenda/inauguracio-de-la-serra.html
CLASS:PUBLIC
END:VEVENT
END:VCALENDAR
