BEGIN:VCALENDAR
VERSION:2.0
CALSCALE:GREGORIAN
PRODID:-//Diputació de Barcelona//DibaCMS//EN
BEGIN:VEVENT
UID:3729
DTSTAMP:20260423T003607
DTSTART:20180728T180000
DTEND:20180728T210000
SUMMARY:Inauguració de la Serra!
LOCATION:
METHOD:PUBLISH
X-WR-CALNAME:ullastrell@ullastrell.cat
X-WR-TIMEZONE:Europe/Madrid
DESCRIPTION:Una tarda de festa al carrer!!

URI:https://www.ullastrell.cat/actualitat/agenda/3729-inauguracio-de-la-serra.html
CLASS:PUBLIC
END:VEVENT
END:VCALENDAR
