BEGIN:VCALENDAR
VERSION:2.0
CALSCALE:GREGORIAN
PRODID:-//Diputació de Barcelona//DibaCMS//EN
BEGIN:VEVENT
UID:3737
DTSTAMP:20260423T051428
DTSTART:20180804T090000
DTEND:20180804T133000
SUMMARY:DEIXALLERIA MÒBIL
LOCATION:
METHOD:PUBLISH
X-WR-CALNAME:ullastrell@ullastrell.cat
X-WR-TIMEZONE:Europe/Madrid
DESCRIPTION:La deixalleria mòbil és un servei gratuït que s'ofereix cada primer dissabte de mes, on la gent pot anar en els llocs esmentats i un camió recull tots aquells materials que no es poden dipositar en els contenidor habituals, tals com, pintures, vernissos, esprais, radiografies, olis de cotxe i de cuina, petits electrodomèstics, ferralla informàtica etc.

Pl. Lluís Companys de 9h. a 10:45h.
Pl. Serralavella de 10:50h. a 12:15h.
C/Arquitecte Alsius de 12:30h. a 13:30h.

 

**Després de les obres de la Serra, la deixalleria retorna al punt de la Pl. Lluís Companys











URI:https://www.ullastrell.cat/actualitat/agenda/3737-deixalleria-mobil.html
CLASS:PUBLIC
END:VEVENT
END:VCALENDAR
