BEGIN:VCALENDAR
VERSION:2.0
CALSCALE:GREGORIAN
PRODID:-//Diputació de Barcelona//DibaCMS//EN
BEGIN:VEVENT
UID:3749
DTSTAMP:20260422T111347
DTSTART:20180911T120000
DTEND:20180911T140000
SUMMARY:EXPOSICIÓ: Centenari de l'arribada de la llum a Ullastrell
LOCATION:C/ Serra 37 08231 Ullastrell
METHOD:PUBLISH
X-WR-CALNAME:ullastrell@ullastrell.cat
X-WR-TIMEZONE:Europe/Madrid
DESCRIPTION:Visita l'exposició que han preparat les entitats FOCU (Fotoclub d'Ullastrell) i MoU (Memòria Oral d'Ullastrell).

URI:https://www.ullastrell.cat/actualitat/agenda/3749-exposicio-centenari-de-larribada-de-la-llum-a-ullastrell.html
CLASS:PUBLIC
END:VEVENT
END:VCALENDAR
