BEGIN:VCALENDAR
VERSION:2.0
CALSCALE:GREGORIAN
PRODID:-//Diputació de Barcelona//DibaCMS//EN
BEGIN:VEVENT
UID:3751
DTSTAMP:20260422T062916
DTSTART:20180920T120000
DTEND:20180920T130000
SUMMARY:OFICINA MÒBIL DEL CONSUMIDOR
LOCATION:Davant de l'Ajuntament 
METHOD:PUBLISH
X-WR-CALNAME:ullastrell@ullastrell.cat
X-WR-TIMEZONE:Europe/Madrid
DESCRIPTION:Atenció i assessorament presencial i personalitzat a la ciutadania, en l'àmbit de la defensa dels seus drets com a consumidors.

URI:https://www.ullastrell.cat/actualitat/agenda/3751-oficina-mobil-del-consumidor.html
CLASS:PUBLIC
END:VEVENT
END:VCALENDAR
