BEGIN:VCALENDAR
VERSION:2.0
CALSCALE:GREGORIAN
PRODID:-//Diputació de Barcelona//DibaCMS//EN
BEGIN:VEVENT
UID:3755
DTSTAMP:20260422T111056
DTSTART:20180901T120000
DTEND:20180902T050000
SUMMARY:TROPICAL RIOT 
LOCATION:
METHOD:PUBLISH
X-WR-CALNAME:ullastrell@ullastrell.cat
X-WR-TIMEZONE:Europe/Madrid
DESCRIPTION:FESTIVAL DE PUNK ROCK & CERVESA ARTESANA

URI:https://www.ullastrell.cat/actualitat/agenda/tropical-riot-.html
CLASS:PUBLIC
END:VEVENT
END:VCALENDAR
