BEGIN:VCALENDAR
VERSION:2.0
CALSCALE:GREGORIAN
PRODID:-//Diputació de Barcelona//DibaCMS//EN
BEGIN:VEVENT
UID:3757
DTSTAMP:20260422T123226
DTSTART:20180902T100000
DTEND:20180902T130000
SUMMARY:Festa de l'aigua a Ca n'Amat
LOCATION:Zona Esportiva de Ca n'Amat - La Vall 
METHOD:PUBLISH
X-WR-CALNAME:ullastrell@ullastrell.cat
X-WR-TIMEZONE:Europe/Madrid
DESCRIPTION:L'Associació de Veïns de Ca n'Amat La Vall us vol convidar a passar un diumenge amb inflables d'aigua i música d'animació!

Per petits i no tan petits!!

Obert a tothom.

URI:https://www.ullastrell.cat/actualitat/agenda/festa-de-laigua-a-ca-namat.html
CLASS:PUBLIC
END:VEVENT
END:VCALENDAR
