BEGIN:VCALENDAR
VERSION:2.0
CALSCALE:GREGORIAN
PRODID:-//Diputació de Barcelona//DibaCMS//EN
BEGIN:VEVENT
UID:3761
DTSTAMP:20260422T145907
DTSTART:20180910T190000
DTEND:20180910T235900
SUMMARY:Actes de La Diada de Catalunya
LOCATION:
METHOD:PUBLISH
X-WR-CALNAME:ullastrell@ullastrell.cat
X-WR-TIMEZONE:Europe/Madrid
DESCRIPTION:Consulteu els diferents actes que es faran al llarg del vespre nit:

URI:https://www.ullastrell.cat/actualitat/agenda/actes-de-la-diada-de-catalunya.html
CLASS:PUBLIC
END:VEVENT
END:VCALENDAR
