BEGIN:VCALENDAR
VERSION:2.0
CALSCALE:GREGORIAN
PRODID:-//Diputació de Barcelona//DibaCMS//EN
BEGIN:VEVENT
UID:3764
DTSTAMP:20260422T111539
DTSTART:20180916T180000
DTEND:20180916T200000
SUMMARY:UNA POMA, UN POMER
LOCATION:
METHOD:PUBLISH
X-WR-CALNAME:ullastrell@ullastrell.cat
X-WR-TIMEZONE:Europe/Madrid
DESCRIPTION:Espectacle de titelles i música a càrrec de la companyia DePaper.

URI:https://www.ullastrell.cat/actualitat/agenda/una-poma-un-pomer.html
CLASS:PUBLIC
END:VEVENT
END:VCALENDAR
