BEGIN:VCALENDAR
VERSION:2.0
CALSCALE:GREGORIAN
PRODID:-//Diputació de Barcelona//DibaCMS//EN
BEGIN:VEVENT
UID:3765
DTSTAMP:20260422T125423
DTSTART:20180929T120000
DTEND:20180929T122500
SUMMARY:Espectacle de dansa - HIPPOS
LOCATION:Davant de l'Ajuntament 
METHOD:PUBLISH
X-WR-CALNAME:ullastrell@ullastrell.cat
X-WR-TIMEZONE:Europe/Madrid
DESCRIPTION:Espectacle de carrer a càrrec de la Cia. Zum-Zum Teatre

Presentat a la Fira de Tàrrega, l'estrena posterior serà al Festival TNT de Terrassa

URI:https://www.ullastrell.cat/actualitat/agenda/espectacle-de-dansa-hippos.html
CLASS:PUBLIC
END:VEVENT
END:VCALENDAR
