BEGIN:VCALENDAR
VERSION:2.0
CALSCALE:GREGORIAN
PRODID:-//Diputació de Barcelona//DibaCMS//EN
BEGIN:VEVENT
UID:3766
DTSTAMP:20260422T111439
DTSTART:20180919T170000
DTEND:20180919T190000
SUMMARY:Conte va, conte ve: LA  REPÚBLICA  DELS CONTES
LOCATION:
METHOD:PUBLISH
X-WR-CALNAME:ullastrell@ullastrell.cat
X-WR-TIMEZONE:Europe/Madrid
DESCRIPTION:19 DE SETEMBRE 2018 | 17:00 A LA BIBLIOTECA

URI:https://www.ullastrell.cat/actualitat/agenda/conte-va-conte-ve-la-republica-dels-contes.html
CLASS:PUBLIC
END:VEVENT
END:VCALENDAR
