BEGIN:VCALENDAR
VERSION:2.0
CALSCALE:GREGORIAN
PRODID:-//Diputació de Barcelona//DibaCMS//EN
BEGIN:VEVENT
UID:3770
DTSTAMP:20260422T074829
DTSTART:20180924T203000
DTEND:20180924T213000
SUMMARY:Reunió de Barri - LA SERRA 
LOCATION:Davant de l'ajuntament 
METHOD:PUBLISH
X-WR-CALNAME:ullastrell@ullastrell.cat
X-WR-TIMEZONE:Europe/Madrid
DESCRIPTION:Amb la voluntat d’escoltar de prop les diferents opinions dels veïns, propostes, crítiques, idees, suggerències, queixes,... El Govern municipal va engegar les “Reunions de Barri”.

URI:https://www.ullastrell.cat/actualitat/agenda/reunio-de-barri-la-serra-.html
CLASS:PUBLIC
END:VEVENT
END:VCALENDAR
