BEGIN:VCALENDAR
VERSION:2.0
CALSCALE:GREGORIAN
PRODID:-//Diputació de Barcelona//DibaCMS//EN
BEGIN:VEVENT
UID:3774
DTSTAMP:20260422T062853
DTSTART:20180930T190000
DTEND:20180930T230000
SUMMARY:1-O Un any després
LOCATION:
METHOD:PUBLISH
X-WR-CALNAME:ullastrell@ullastrell.cat
X-WR-TIMEZONE:Europe/Madrid
DESCRIPTION:Dg. 30 de setembre, a la plaça de l'Ajuntament 

URI:https://www.ullastrell.cat/actualitat/agenda/1-o-un-any-despres.html
CLASS:PUBLIC
END:VEVENT
END:VCALENDAR
