BEGIN:VCALENDAR
VERSION:2.0
CALSCALE:GREGORIAN
PRODID:-//Diputació de Barcelona//DibaCMS//EN
BEGIN:VEVENT
UID:3776
DTSTAMP:20260422T103531
DTSTART:20181006T170000
DTEND:20181006T203000
SUMMARY:Donació de sang
LOCATION:C/ Josep Fornell, s/n 08231 Ullastrell
METHOD:PUBLISH
X-WR-CALNAME:ullastrell@ullastrell.cat
X-WR-TIMEZONE:Europe/Madrid
DESCRIPTION:
Donació de sang a favor de "Banc de Sang i Teixits"

Consulta al web si ets idoni per poder donar sang  

https://www.donarsang.gencat.cat/ca/puc-donar/


URI:https://www.ullastrell.cat/actualitat/agenda/3776-donacio-de-sang.html
CLASS:PUBLIC
END:VEVENT
END:VCALENDAR
