BEGIN:VCALENDAR
VERSION:2.0
CALSCALE:GREGORIAN
PRODID:-//Diputació de Barcelona//DibaCMS//EN
BEGIN:VEVENT
UID:3777
DTSTAMP:20260422T080307
DTSTART:20181001T090000
DTEND:20181001T093000
SUMMARY:Penjada de la pancarta Republiquem i lectura del manifest
LOCATION:C/ Serra, 17 08231 Ullastrell
METHOD:PUBLISH
X-WR-CALNAME:ullastrell@ullastrell.cat
X-WR-TIMEZONE:Europe/Madrid
DESCRIPTION:Amb motiu de l’1 d’Octubre, l’Associació de Municipis per la Independència (AMI) ha presentat la campanya “Republiquem”

URI:https://www.ullastrell.cat/actualitat/agenda/penjada-de-la-pancarta-republiquem-i-lectura-del-manifest.html
CLASS:PUBLIC
END:VEVENT
END:VCALENDAR
