BEGIN:VCALENDAR
VERSION:2.0
CALSCALE:GREGORIAN
PRODID:-//Diputació de Barcelona//DibaCMS//EN
BEGIN:VEVENT
UID:3778
DTSTAMP:20260422T074639
DTSTART:20181003T200000
DTEND:20181003T210000
SUMMARY:Ple extraordinari urgent
LOCATION:
METHOD:PUBLISH
X-WR-CALNAME:ullastrell@ullastrell.cat
X-WR-TIMEZONE:Europe/Madrid
DESCRIPTION:Ple extraordinari urgent 03/10/2018 a les 20:00h. Sala de plens de l'Ajuntament

URI:https://www.ullastrell.cat/actualitat/agenda/3778-ple-extraordinari-urgent.html
CLASS:PUBLIC
END:VEVENT
END:VCALENDAR
