BEGIN:VCALENDAR
VERSION:2.0
CALSCALE:GREGORIAN
PRODID:-//Diputació de Barcelona//DibaCMS//EN
BEGIN:VEVENT
UID:3779
DTSTAMP:20260422T110949
DTSTART:20181008T200000
DTEND:20181008T210000
SUMMARY:Reunió de barri - CAN GRAS
LOCATION:Jardinet de Can Gras 
METHOD:PUBLISH
X-WR-CALNAME:ullastrell@ullastrell.cat
X-WR-TIMEZONE:Europe/Madrid
DESCRIPTION:Amb la voluntat d’escoltar de prop les diferents opinions dels veïns, propostes, crítiques, idees, suggerències, queixes,... El Govern municipal va engegar les “Reunions de Barri”.

URI:https://www.ullastrell.cat/actualitat/agenda/3779-reunio-de-barri-can-gras.html
CLASS:PUBLIC
END:VEVENT
END:VCALENDAR
