BEGIN:VCALENDAR
VERSION:2.0
CALSCALE:GREGORIAN
PRODID:-//Diputació de Barcelona//DibaCMS//EN
BEGIN:VEVENT
UID:3780
DTSTAMP:20260423T065213
DTSTART:20181024T200000
DTEND:20181024T200000
SUMMARY:PLE ORDINARI
LOCATION:C/ Serra, 17 08231 Ullastrell
METHOD:PUBLISH
X-WR-CALNAME:ullastrell@ullastrell.cat
X-WR-TIMEZONE:Europe/Madrid
DESCRIPTION:20h a la Sala de Plens de l'Ajuntament

URI:https://www.ullastrell.cat/actualitat/agenda/3780-ple-ordinari.html
CLASS:PUBLIC
END:VEVENT
END:VCALENDAR
