BEGIN:VCALENDAR
VERSION:2.0
CALSCALE:GREGORIAN
PRODID:-//Diputació de Barcelona//DibaCMS//EN
BEGIN:VEVENT
UID:3783
DTSTAMP:20260422T092111
DTSTART:20181017T170000
DTEND:20181017T180000
SUMMARY:Conte va, conte ve: MENÚ DE PIRATES
LOCATION:
METHOD:PUBLISH
X-WR-CALNAME:ullastrell@ullastrell.cat
X-WR-TIMEZONE:Europe/Madrid
DESCRIPTION:17 D’OCTUBRE 2018 | 17:00 A LA BIBLIOTECA

URI:https://www.ullastrell.cat/actualitat/agenda/3783-conte-va-conte-ve-menu-de-pirates.html
CLASS:PUBLIC
END:VEVENT
END:VCALENDAR
