BEGIN:VCALENDAR
VERSION:2.0
CALSCALE:GREGORIAN
PRODID:-//Diputació de Barcelona//DibaCMS//EN
BEGIN:VEVENT
UID:3788
DTSTAMP:20260422T132627
DTSTART:20181028T110000
DTEND:20181028T123000
SUMMARY:Un món de cartró
LOCATION:
METHOD:PUBLISH
X-WR-CALNAME:ullastrell@ullastrell.cat
X-WR-TIMEZONE:Europe/Madrid
DESCRIPTION:S’enceta la programació de tardor el proper 28 d’octubre a les 11h, en què la companyia Crea Moviment ens presenta Un món de cartró

URI:https://www.ullastrell.cat/actualitat/agenda/un-mon-de-cartro.html
CLASS:PUBLIC
END:VEVENT
END:VCALENDAR
