BEGIN:VCALENDAR
VERSION:2.0
CALSCALE:GREGORIAN
PRODID:-//Diputació de Barcelona//DibaCMS//EN
BEGIN:VEVENT
UID:3789
DTSTAMP:20260423T171034
DTSTART:20181125T120000
DTEND:20181125T133000
SUMMARY:Grand Hotel Italino
LOCATION:
METHOD:PUBLISH
X-WR-CALNAME:ullastrell@ullastrell.cat
X-WR-TIMEZONE:Europe/Madrid
DESCRIPTION:El 25 de novembre a les 12h de la companyia La Tal, amb l’espectacle Grand Hotel Italino.

URI:https://www.ullastrell.cat/actualitat/agenda/grand-hotel-italino.html
CLASS:PUBLIC
END:VEVENT
END:VCALENDAR
