BEGIN:VCALENDAR
VERSION:2.0
CALSCALE:GREGORIAN
PRODID:-//Diputació de Barcelona//DibaCMS//EN
BEGIN:VEVENT
UID:3790
DTSTAMP:20260422T045443
DTSTART:20181230T120000
DTEND:20181230T133000
SUMMARY:Papirus
LOCATION:
METHOD:PUBLISH
X-WR-CALNAME:ullastrell@ullastrell.cat
X-WR-TIMEZONE:Europe/Madrid
DESCRIPTION:La programació de tardor tancarà l’any el 30 de desembre a les 12h amb la companyia Xirriquiteula i el seu espectacle Papirus

URI:https://www.ullastrell.cat/actualitat/agenda/papirus.html
CLASS:PUBLIC
END:VEVENT
END:VCALENDAR
