BEGIN:VCALENDAR
VERSION:2.0
CALSCALE:GREGORIAN
PRODID:-//Diputació de Barcelona//DibaCMS//EN
BEGIN:VEVENT
UID:3794
DTSTAMP:20260423T164724
DTSTART:20181103T090000
DTEND:20181103T133000
SUMMARY:Deixalleria mòbil
LOCATION:(En itinerància)
Plaça Lluís Companys, Plaça Serralavella, C/ Arquitecte Alsius. 
METHOD:PUBLISH
X-WR-CALNAME:ullastrell@ullastrell.cat
X-WR-TIMEZONE:Europe/Madrid
DESCRIPTION:La deixalleria mòbil és un servei gratuït que s'ofereix cada primer dissabte de mes, on els veïns i veïnes poden anar en els llocs esmentats i un camió recull tots aquells materials que no es poden dipositar en els contenidors habituals, tals com, pintures, vernissos, esprais, radiografies, olis de cotxe i de cuina, petits electrodomèstics, ferralla informàtica, etc.

 

URI:https://www.ullastrell.cat/actualitat/agenda/3794-deixalleria-mobil.html
CLASS:PUBLIC
END:VEVENT
END:VCALENDAR
