BEGIN:VCALENDAR
VERSION:2.0
CALSCALE:GREGORIAN
PRODID:-//Diputació de Barcelona//DibaCMS//EN
BEGIN:VEVENT
UID:3796
DTSTAMP:20260423T062804
DTSTART:20181201T093000
DTEND:20181201T133000
SUMMARY:Deixalleria mòbil
LOCATION:(En itinerància)
 
METHOD:PUBLISH
X-WR-CALNAME:ullastrell@ullastrell.cat
X-WR-TIMEZONE:Europe/Madrid
DESCRIPTION:La deixalleria mòbil és un servei que s'ofereix cada primer dissabte de mes, on tots els veïns i veïnes poden anar en els llocs esmentats i un camió recull tots aquells materials que no es poden dipositar en els contenidors habituals, tan com pintures, vernissos, esprais, radiografies, olis de cotxes i cuina, petits electrodomèstics, ferralla informàtica, etc...

URI:https://www.ullastrell.cat/actualitat/agenda/3796-deixalleria-mobil.html
CLASS:PUBLIC
END:VEVENT
END:VCALENDAR
