BEGIN:VCALENDAR
VERSION:2.0
CALSCALE:GREGORIAN
PRODID:-//Diputació de Barcelona//DibaCMS//EN
BEGIN:VEVENT
UID:3797
DTSTAMP:20260423T050011
DTSTART:20181213T083000
DTEND:20181213T093000
SUMMARY:Servei de Consulta La MINA Aigües de Terrassa
LOCATION:C/ Serra, 17 08231 Ullastrell
METHOD:PUBLISH
X-WR-CALNAME:ullastrell@ullastrell.cat
X-WR-TIMEZONE:Europe/Madrid
DESCRIPTION:
URI:https://www.ullastrell.cat/actualitat/agenda/3797-servei-de-consulta-la-mina-aigues-de-terrassa.html
CLASS:PUBLIC
END:VEVENT
END:VCALENDAR
