BEGIN:VCALENDAR
VERSION:2.0
CALSCALE:GREGORIAN
PRODID:-//Diputació de Barcelona//DibaCMS//EN
BEGIN:VEVENT
UID:3799
DTSTAMP:20260422T132933
DTSTART:20181107T170000
DTEND:20181107T180000
SUMMARY:SETMANA DE LA LACTÀNCIA - Xerrada: Claus per afavorir una lactància exitosa
LOCATION:Camí de Can Font, s/n 08231 Ullastrell
METHOD:PUBLISH
X-WR-CALNAME:ullastrell@ullastrell.cat
X-WR-TIMEZONE:Europe/Madrid
DESCRIPTION:Dins la Setmana de la Lactància d'Ullastrell, us proposem aquesta xerrada que portarà a terme la infermera pediàtrica del CAP d'Ullastrell, Esther Guerrero.

URI:https://www.ullastrell.cat/actualitat/agenda/setmana-de-la-lactancia-xerrada-claus-per-afavorir-una-lactancia-exitosa.html
CLASS:PUBLIC
END:VEVENT
END:VCALENDAR
