BEGIN:VCALENDAR
VERSION:2.0
CALSCALE:GREGORIAN
PRODID:-//Diputació de Barcelona//DibaCMS//EN
BEGIN:VEVENT
UID:3800
DTSTAMP:20260422T174636
DTSTART:20181109T183000
DTEND:20181109T203000
SUMMARY:SETMANA DE LA LACTÀNCIA - Xerrada a càrrec d'Armando Bastida
LOCATION:C/ Josep Fornell, s/n 08231 Ullastrell
METHOD:PUBLISH
X-WR-CALNAME:ullastrell@ullastrell.cat
X-WR-TIMEZONE:Europe/Madrid
DESCRIPTION:El conegut infermer pediàtric ens acompanyarà enguany amb la xerrada "El paper de la parella en la lactància i la criança".

Per una millor organització podeu reservar plaça trucant a l'ajuntament 937887262, deixant nom i telèfon i quantes persones vindreu.

A la Sala d'Exposicions del Casal Cultural.

URI:https://www.ullastrell.cat/actualitat/agenda/setmana-de-la-lactancia-xerrada-a-carrec-darmando-bastida.html
CLASS:PUBLIC
END:VEVENT
END:VCALENDAR
