BEGIN:VCALENDAR
VERSION:2.0
CALSCALE:GREGORIAN
PRODID:-//Diputació de Barcelona//DibaCMS//EN
BEGIN:VEVENT
UID:3801
DTSTAMP:20260422T162903
DTSTART:20181111T110000
DTEND:20181111T114500
SUMMARY:SETMANA DE LA LACTÀNCIA: Axuxé-Axuxà, Taller-espectacle per a nadons
LOCATION:C/ Josep Fornell, s/n 08231 Ullastrell
METHOD:PUBLISH
X-WR-CALNAME:ullastrell@ullastrell.cat
X-WR-TIMEZONE:Europe/Madrid
DESCRIPTION:Cantem en família presenta: "AXUXÉ-AXUXÀ" Taller-espectacle familiar i participatiu amb música, dansa, massatges, jocs, pessigolles i contes!

Per nadons fins a 18 mesos (tot i que els germans/es també seran benvinguts)

Durada: 45 min.

URI:https://www.ullastrell.cat/actualitat/agenda/setmana-de-la-lactancia-axuxe-axuxa-taller-espectacle-per-a-nadons.html
CLASS:PUBLIC
END:VEVENT
END:VCALENDAR
