BEGIN:VCALENDAR
VERSION:2.0
CALSCALE:GREGORIAN
PRODID:-//Diputació de Barcelona//DibaCMS//EN
BEGIN:VEVENT
UID:3802
DTSTAMP:20260422T123039
DTSTART:20181107T200000
DTEND:20181107T210000
SUMMARY:Presentació pública del procés participatiu de la Zona Esportiva
LOCATION:Sala Reunions de l'Ajuntament d'Ullastrell 
METHOD:PUBLISH
X-WR-CALNAME:ullastrell@ullastrell.cat
X-WR-TIMEZONE:Europe/Madrid
DESCRIPTION:Després de mesos de treball, us convidem a assistir a la presentació pública del que ha estat aquest procés participatiu per millorar tot l'àmbit de la zona esportiva (piscina, pista, camp de futbol, parc de La Bassa,...)

 

URI:https://www.ullastrell.cat/actualitat/agenda/presentacio-publica-del-proces-participatiu-de-la-zona-esportiva.html
CLASS:PUBLIC
END:VEVENT
END:VCALENDAR
