BEGIN:VCALENDAR
VERSION:2.0
CALSCALE:GREGORIAN
PRODID:-//Diputació de Barcelona//DibaCMS//EN
BEGIN:VEVENT
UID:3803
DTSTAMP:20260422T185117
DTSTART:20181106T123000
DTEND:20181106T140000
SUMMARY:TALLER DE LACTÀNCIA - quinzenal
LOCATION:L'Altell del Casal 
METHOD:PUBLISH
X-WR-CALNAME:ullastrell@ullastrell.cat
X-WR-TIMEZONE:Europe/Madrid
DESCRIPTION:Avui comença un nou curs del Taller de lactància, on totes les mares de nadons lactants poden assistir-hi.

Va a càrrec de la infermera del CAP, Esther Guerrero.

Serà cada dimarts, de forma quinzenal.

URI:https://www.ullastrell.cat/actualitat/agenda/taller-de-lactancia-quinzenal.html
CLASS:PUBLIC
END:VEVENT
END:VCALENDAR
