BEGIN:VCALENDAR
VERSION:2.0
CALSCALE:GREGORIAN
PRODID:-//Diputació de Barcelona//DibaCMS//EN
BEGIN:VEVENT
UID:3805
DTSTAMP:20260423T081542
DTSTART:20181204T123000
DTEND:20181204T140000
SUMMARY:TALLER DE LACTÀNCIA - quinzenal
LOCATION:Altell del Casal 
METHOD:PUBLISH
X-WR-CALNAME:ullastrell@ullastrell.cat
X-WR-TIMEZONE:Europe/Madrid
DESCRIPTION:

Taller de suport a la lactància materna, a càrrec de la infermera del CAP, Esther Guerrero.

Serà cada dimarts, de forma quinzenal.



URI:https://www.ullastrell.cat/actualitat/agenda/3805-taller-de-lactancia-quinzenal.html
CLASS:PUBLIC
END:VEVENT
END:VCALENDAR
