BEGIN:VCALENDAR
VERSION:2.0
CALSCALE:GREGORIAN
PRODID:-//Diputació de Barcelona//DibaCMS//EN
BEGIN:VEVENT
UID:3807
DTSTAMP:20260423T005802
DTSTART:20181115T120000
DTEND:20181115T130000
SUMMARY:Oficina Mòbil d'informació al Consumidor
LOCATION:Davant de l'Ajuntament 
METHOD:PUBLISH
X-WR-CALNAME:ullastrell@ullastrell.cat
X-WR-TIMEZONE:Europe/Madrid
DESCRIPTION:El servei de l’Oficina Provincial d’Informació al Consumidor (OPIC) està destinat als ajuntaments que no disposen de serveis municipals de consum i té com a finalitat bàsica defensar els consumidors i els seus drets.

Formen el servei de l’OPIC: la Bústia del Consumidor, amb seu a l’ajuntament, que recull diàriament les consultes dels ciutadans i l’Oficina Mòbil, formada per vuit Unitats Mòbils que regularment es desplacen per atendre consultes directament.

S'atén de forma gratuïta i les consultes i queixes sobre temes de consum, comerç, compra lloguer habitatge, serveis bancaris, vehicles, etiquetatge i garanties de productes, servei post-venda, assegurances, viatges,...

URI:https://www.ullastrell.cat/actualitat/agenda/3807-oficina-mobil-dinformacio-al-consumidor.html
CLASS:PUBLIC
END:VEVENT
END:VCALENDAR
