BEGIN:VCALENDAR
VERSION:2.0
CALSCALE:GREGORIAN
PRODID:-//Diputació de Barcelona//DibaCMS//EN
BEGIN:VEVENT
UID:3811
DTSTAMP:20260422T140104
DTSTART:20181115T183000
DTEND:20181115T203000
SUMMARY:RAS I CURT - Taller formatiu de Llenguatge Cinematogràfic
LOCATION:Plaça de les escoles, 1 08231 Ullastrell
METHOD:PUBLISH
X-WR-CALNAME:ullastrell@ullastrell.cat
X-WR-TIMEZONE:Europe/Madrid
DESCRIPTION:Com qualsevol altre idioma, el llenguatge cinematogràfic té les seves pròpies normes.

Aprèn-ne unes nocions bàsiques i comença a veure el cinema com mai vas creure que ho faries!

URI:https://www.ullastrell.cat/actualitat/agenda/ras-i-curt-taller-formatiu-de-llenguatge-cinematografic.html
CLASS:PUBLIC
END:VEVENT
END:VCALENDAR
