BEGIN:VCALENDAR
VERSION:2.0
CALSCALE:GREGORIAN
PRODID:-//Diputació de Barcelona//DibaCMS//EN
BEGIN:VEVENT
UID:3812
DTSTAMP:20260423T081237
DTSTART:20181122T183000
DTEND:20181122T203000
SUMMARY:So
LOCATION:Plaça de les escoles, 1 08231 Ullastrell
METHOD:PUBLISH
X-WR-CALNAME:ullastrell@ullastrell.cat
X-WR-TIMEZONE:Europe/Madrid
DESCRIPTION:Taller formatiu Ras i Curt

URI:https://www.ullastrell.cat/actualitat/agenda/so.html
CLASS:PUBLIC
END:VEVENT
END:VCALENDAR
