BEGIN:VCALENDAR
VERSION:2.0
CALSCALE:GREGORIAN
PRODID:-//Diputació de Barcelona//DibaCMS//EN
BEGIN:VEVENT
UID:3813
DTSTAMP:20260422T233024
DTSTART:20181127T183000
DTEND:20181127T203000
SUMMARY:Vestuari i atrezzo
LOCATION:Plaça de les escoles, 1 08231 Ullastrell
METHOD:PUBLISH
X-WR-CALNAME:ullastrell@ullastrell.cat
X-WR-TIMEZONE:Europe/Madrid
DESCRIPTION:Taller formatiu Ras i Curt 

URI:https://www.ullastrell.cat/actualitat/agenda/vestuari-i-atrezzo.html
CLASS:PUBLIC
END:VEVENT
END:VCALENDAR
