BEGIN:VCALENDAR
VERSION:2.0
CALSCALE:GREGORIAN
PRODID:-//Diputació de Barcelona//DibaCMS//EN
BEGIN:VEVENT
UID:3814
DTSTAMP:20260423T153033
DTSTART:20181128T170000
DTEND:20181128T190000
SUMMARY:Conte va conte ve
LOCATION:C/ Josep Fornell, s/n 08231 Ullastrell
METHOD:PUBLISH
X-WR-CALNAME:ullastrell@ullastrell.cat
X-WR-TIMEZONE:Europe/Madrid
DESCRIPTION:Conte va conte ve (amb Eva González)

URI:https://www.ullastrell.cat/actualitat/agenda/3814-conte-va-conte-ve.html
CLASS:PUBLIC
END:VEVENT
END:VCALENDAR
