BEGIN:VCALENDAR
VERSION:2.0
CALSCALE:GREGORIAN
PRODID:-//Diputació de Barcelona//DibaCMS//EN
BEGIN:VEVENT
UID:3815
DTSTAMP:20260422T221821
DTSTART:20181120T183000
DTEND:20181120T083000
SUMMARY:RAS I CURT - Taller formatiu de Tècnica fotogràfica i il·luminació
LOCATION:Plaça de les escoles, 1 08231 Ullastrell
METHOD:PUBLISH
X-WR-CALNAME:ullastrell@ullastrell.cat
X-WR-TIMEZONE:Europe/Madrid
DESCRIPTION:Taller formatiu Ras i CurtPot la llum influir en les nostres emocions? Rotundament sí.

Acosta't amb nosaltres a la llum i descobreix les meravelles de les tècniques fotogràfiques.

URI:https://www.ullastrell.cat/actualitat/agenda/ras-i-curt-taller-formatiu-de-tecnica-fotografica-i-illuminacio.html
CLASS:PUBLIC
END:VEVENT
END:VCALENDAR
