BEGIN:VCALENDAR
VERSION:2.0
CALSCALE:GREGORIAN
PRODID:-//Diputació de Barcelona//DibaCMS//EN
BEGIN:VEVENT
UID:3816
DTSTAMP:20260423T035829
DTSTART:20181129T183000
DTEND:20181129T203000
SUMMARY: Edició de vídeo
LOCATION:Plaça de les escoles, 1 08231 Ullastrell
METHOD:PUBLISH
X-WR-CALNAME:ullastrell@ullastrell.cat
X-WR-TIMEZONE:Europe/Madrid
DESCRIPTION:Taller formatiu Ras i Curt

URI:https://www.ullastrell.cat/actualitat/agenda/-edicio-de-video.html
CLASS:PUBLIC
END:VEVENT
END:VCALENDAR
