BEGIN:VCALENDAR
VERSION:2.0
CALSCALE:GREGORIAN
PRODID:-//Diputació de Barcelona//DibaCMS//EN
BEGIN:VEVENT
UID:3817
DTSTAMP:20260422T045522
DTSTART:20181215T220000
DTEND:20181215T235900
SUMMARY:Projecció Concurs curtmetratges Ras i Curt 
LOCATION:Sala Actes del Casal Cultural 
METHOD:PUBLISH
X-WR-CALNAME:ullastrell@ullastrell.cat
X-WR-TIMEZONE:Europe/Madrid
DESCRIPTION:Projecció Concurs curtmetratges Ras i Curt 

URI:https://www.ullastrell.cat/actualitat/agenda/projeccio-concurs-curtmetratges-ras-i-curt-.html
CLASS:PUBLIC
END:VEVENT
END:VCALENDAR
