BEGIN:VCALENDAR
VERSION:2.0
CALSCALE:GREGORIAN
PRODID:-//Diputació de Barcelona//DibaCMS//EN
BEGIN:VEVENT
UID:3820
DTSTAMP:20260422T193907
DTSTART:20181113T183000
DTEND:20181113T203000
SUMMARY:RAS I CURT - Taller formatiu de Guionatge
LOCATION:Plaça de les escoles, 1 08231 Ullastrell
METHOD:PUBLISH
X-WR-CALNAME:ullastrell@ullastrell.cat
X-WR-TIMEZONE:Europe/Madrid
DESCRIPTION:No saps com plasmar la teva idea en un guió? No se t'acut cap història?

En el taller de guió t'ensenyarem com dur-ho a terme i aprendràs algunes tècniques de creativitat!

URI:https://www.ullastrell.cat/actualitat/agenda/ras-i-curt-taller-formatiu-de-guionatge.html
CLASS:PUBLIC
END:VEVENT
END:VCALENDAR
