BEGIN:VCALENDAR
VERSION:2.0
CALSCALE:GREGORIAN
PRODID:-//Diputació de Barcelona//DibaCMS//EN
BEGIN:VEVENT
UID:3821
DTSTAMP:20260422T135133
DTSTART:20181118T183000
DTEND:20181118T203000
SUMMARY:XXX MOSTRA DE TEATRE - Federico G.L. amor calma pasión
LOCATION:C/ Josep Fornell, s/n 08231 Ullastrell
METHOD:PUBLISH
X-WR-CALNAME:ullastrell@ullastrell.cat
X-WR-TIMEZONE:Europe/Madrid
DESCRIPTION:PROGRAMACIO TRENTENA MOSTRA-MEMORIAL ROSER ANGLADA

URI:https://www.ullastrell.cat/actualitat/agenda/xxx-mostra-de-teatre-federico-gl-amor-calma-pasion.html
CLASS:PUBLIC
END:VEVENT
END:VCALENDAR
